BEGIN:VCALENDAR
VERSION:2.0
PRODID:-//alpakahof-albrecht - ECPv6.15.20//NONSGML v1.0//EN
CALSCALE:GREGORIAN
METHOD:PUBLISH
X-WR-CALNAME:alpakahof-albrecht
X-ORIGINAL-URL:https://alpakahof-albrecht.de
X-WR-CALDESC:Veranstaltungen für alpakahof-albrecht
REFRESH-INTERVAL;VALUE=DURATION:PT1H
X-Robots-Tag:noindex
X-PUBLISHED-TTL:PT1H
BEGIN:VTIMEZONE
TZID:Europe/Berlin
BEGIN:DAYLIGHT
TZOFFSETFROM:+0100
TZOFFSETTO:+0200
TZNAME:CEST
DTSTART:20250330T010000
END:DAYLIGHT
BEGIN:STANDARD
TZOFFSETFROM:+0200
TZOFFSETTO:+0100
TZNAME:CET
DTSTART:20251026T010000
END:STANDARD
BEGIN:DAYLIGHT
TZOFFSETFROM:+0100
TZOFFSETTO:+0200
TZNAME:CEST
DTSTART:20260329T010000
END:DAYLIGHT
BEGIN:STANDARD
TZOFFSETFROM:+0200
TZOFFSETTO:+0100
TZNAME:CET
DTSTART:20261025T010000
END:STANDARD
BEGIN:DAYLIGHT
TZOFFSETFROM:+0100
TZOFFSETTO:+0200
TZNAME:CEST
DTSTART:20270328T010000
END:DAYLIGHT
BEGIN:STANDARD
TZOFFSETFROM:+0200
TZOFFSETTO:+0100
TZNAME:CET
DTSTART:20271031T010000
END:STANDARD
END:VTIMEZONE
BEGIN:VEVENT
DTSTART;TZID=Europe/Berlin:20260425T110000
DTEND;TZID=Europe/Berlin:20260425T123000
DTSTAMP:20260422T113530
CREATED:20260409T052055Z
LAST-MODIFIED:20260422T055036Z
UID:1300-1777114800-1777120200@alpakahof-albrecht.de
SUMMARY:Wanderung 90 Minuten "Alpaka exklusiv für 2" Ausgebucht
DESCRIPTION:Ausgebucht \nSie möchten sich für einen Termin anmelden? Ich freue mich auf Ihren Kontakt!\nGerne per Mail: info@alpakahof-albrecht.de
URL:https://alpakahof-albrecht.de/event/wanderung-60-minuten-2-2-2-2-2-2-2-2-2-8-2-5-2-2-2-3-2-2-2-2-2-5-2-2-2-2-5-3-2-2-2-3-2-2-3-2-3-2-2-3-5-3-2/
CATEGORIES:Ausgebucht
END:VEVENT
BEGIN:VEVENT
DTSTART;TZID=Europe/Berlin:20260426T100000
DTEND;TZID=Europe/Berlin:20260426T113000
DTSTAMP:20260422T113530
CREATED:20260328T143311Z
LAST-MODIFIED:20260421T100753Z
UID:1292-1777197600-1777203000@alpakahof-albrecht.de
SUMMARY:Wanderung 90 Minuten Ausgebucht
DESCRIPTION:Ausgebucht \nSie möchten sich für einen Termin anmelden? Ich freue mich auf Ihren Kontakt!\nGerne per Mail: info@alpakahof-albrecht.de
URL:https://alpakahof-albrecht.de/event/wanderung-60-minuten-2-2-2-2-2-2-2-2-2-8-2-5-2-2-2-3-2-2-2-2-2-5-2-2-2-2-5-3-2-2-2-3-2-2-3-2-3-2-2-3-5-3/
CATEGORIES:Ausgebucht
END:VEVENT
BEGIN:VEVENT
DTSTART;TZID=Europe/Berlin:20260429T093000
DTEND;TZID=Europe/Berlin:20260429T104500
DTSTAMP:20260422T113530
CREATED:20260312T064301Z
LAST-MODIFIED:20260312T065150Z
UID:1262-1777455000-1777459500@alpakahof-albrecht.de
SUMMARY:Tiergestützte Aktivitäten Gruppe Ausgebucht
DESCRIPTION:Ausgebucht! \nSie möchten sich für einen Termin anmelden? Ich freue mich auf Ihren Kontakt!\nGerne per Mail: info@alpakahof-albrecht.de
URL:https://alpakahof-albrecht.de/event/wanderung-60-minuten-2-2-2-2-2-2-2-2-2-8-2-5-2-2-2-3-2-2-2-2-2-5-2-2-2-2-5-3-2-4-4-2-2-4-2-2-2-3-2-3-2-2/
CATEGORIES:Ausgebucht
END:VEVENT
END:VCALENDAR